Workbook

Sheet TONG HOP GIA TRI DAU TU
A2: BẢNG TỔNG HỢP GIÁ TRỊ ĐẦU TƯ CƠ SỞ VẬT CHẤT
C3: Nghề : Công nghệ Ô tô
H4: ĐVT: 1.000đ
A5: Năm đầu tư | B5: Sửa chữa phòng học | C5: Đầu tư thiết bị | D5: CỘNG | E5: NGUỒN VỐN
E6: CỘNG | F6: TW (chương trình mục tiêu) | G6: Địa phương (Thành phố) | H6: Nguồn khác (Huy động)
A7: (1) | B7: (2) | C7: (3) | D7: (4)= (2)+(3) | E7: (5)=(6)+(7)+(8) | F7: (6) | G7: (7) | H7: (8)
A8: NĂM 1 | B8: 100000 | C8: 25323846 | D8: =B8+C8 -> 25423846 | E8: =F8+G8+H8 -> 25423846 | F8: ='BIEU BAO CAO'!K14+'BIEU BAO CAO'!K12 -> 20319077 | G8: ='BIEU BAO CAO'!L14+'BIEU BAO CAO'!L12 -> 3828576.9 | H8: ='BIEU BAO CAO'!M14+'BIEU BAO CAO'!M11 -> 1276192.3
A9: NĂM 2 | C9: 48527110 | D9: =B9+C9 -> 48527110 | E9: =F9+G9+H9 -> 48527110 | F9: ='BIEU BAO CAO'!K133 -> 38821688 | G9: ='BIEU BAO CAO'!L133 -> 7279066.5 | H9: ='BIEU BAO CAO'!M133 -> 2426355.5
A10: NĂM 3 | C10: 32506210 | D10: =B10+C10 -> 32506210 | E10: =F10+G10+H10 -> 32506210 | F10: ='BIEU BAO CAO'!K208 -> 26004968 | G10: ='BIEU BAO CAO'!L208 -> 4875931.5 | H10: ='BIEU BAO CAO'!M208 -> 1625310.5
A11: CỘNG | B11: =SUM(B8:B10) -> 100000 | C11: =SUM(C8:C10) -> 106357166 | D11: =SUM(D8:D10) -> 106457166 | E11: =SUM(E8:E10) -> 106457166 | F11: =SUM(F8:F10) -> 85145733 | G11: =SUM(G8:G10) -> 15983575 | H11: =SUM(H8:H10) -> 5327858.3

Sheet BIEU BAO CAO
A1: UBND THÀNH PHỐ HỒ CHÍ MINH | F1: CỘNG HÒA XÃ HỘI CHỦ NGHĨA VIỆT NAM
A2: TRƯỜNG CAO ĐẲNG LÝ TỰ TRỌNG | F2: Độc lập - Tự do - Hạnh phúc
A3: THÀNH PHỐ HỒ CHÍ MINH
A5: Báo cáo hiện trạng và đề xuất hỗ trợ đầu tư về cơ sở vật chất, máy móc trang thiết bị đào tạo nghề Công nghệ Ô tô thực hiện đào tạo thí điểm theo chương trình chuyển giao từ Đức tại Trường Cao đẳng Lý Tự Trọng TP. Hồ Chí Minh
A6: ( Kèm theo Công văn số 2870/TCGDNN-CTMT ngày 12 tháng 11 năm 2018 của Tổng cục Giáo dục nghề nghiệp)
A8: TT | B8: Nội dung đầu tư | C8: Tình trạng | E8: Số lượng hiện có | F8: Số lượng theo yêu cầu | G8: Số lượng cần bổ sung | H8: Đơn giá ( nghìn đồng) | I8: Thành tiền (nghìn đồng) | J8: Nguồn kinh phí (nghìn đồng) | N8: Ghi chú
J9: Tổng cộng | K9: Trong đó
C10: Đáp ứng | D10: Chưa đáp ứng | K10: NSTW (Từ CTMT GDNN- Việc làm và ATLĐ) | L10: Ngân sách Bộ, ngành, địa phương | M10: Huy động nguồn lực khác
A11: A. | B11: Đầu tư phòng học, xưởng thực hành, thực tập | I11: =I12 -> 100000 | J11: =J12 -> 100000 | K11: 60000 | L11: 30000 | M11: 10000
A12: 1 | B12: Cải tạo phòng học (tiêu chuẩn) - Đào tạo lý thuyết | D12: X | E12: 1 | G12: 1 | H12: 100000 | I12: 100000 | J12: =SUM(K12:M12) -> 100000 | K12: 60000 | L12: 30000 | M12: 10000
A13: B. | B13: Đầu tư máy móc trang thiết bị đào tạo | I13: =I14+I133+I208 -> 29899835 | J13: =SUM(K13:M13) -> 106357166 | K13: 85085733 | L13: 15953575 | M13: 5317858.3
A14: I. | B14: Năm thứ nhất | I14: =I15+I24+I34+I68+I100+I126 -> 6823065 | J14: =SUM(K14:M14) -> 25323846 | K14: 20259077 | L14: 3798576.9 | M14: 1266192.3
A15: 1 | B15: Phòng học (tiêu chuẩn) - Đào tạo lý thuyết | I15: =SUM(I16:I23) -> 25000 | J15: =SUM(K15:M15) -> 131050 | K15: 104840 | L15: 19657.5 | M15: 6552.5
A16: 1.1 | B16: Bàn học sinh Basic (2 chỗ ngồi) | C16: x | E16: 15 | F16: 15 | G16: 0 | H16: 2470 | I16: =G16*H16 -> 0
A17: 1.2 | B17: Ghế học sinh Basic | C17: x | E17: 15 | F17: 15 | G17: 0 | H17: 1170 | I17: =G17*H17 -> 0
A18: 1.3 | B18: Bàn giáo viên Basic | C18: x | E18: 1 | F18: 1 | G18: 0 | H18: 5000 | I18: =H18*G18 -> 0
A19: 1.4 | B19: Tủ lớp học sẵn 30 cuốn SGK, cho mỗi cuốn sách giáo khoa theo bộ chương trình (mục 3.1 trong bộ chương trình) là cuốn và Phí bản quyền cho sách chuyên ngành | D19: x | E19: 0 | F19: 1 | G19: 1 | H19: 25000 | I19: =H19*G19 -> 25000
A20: 1.5 | B20: Máy chiếu | C20: x | E20: 1 | F20: 1 | G20: 0 | H20: 25000 | I20: =H20*G20 -> 0
A21: 1.6 | B21: Máy tính để bàn (PC) (màn hình, bàn phím, chuột) | C21: x | E21: 1 | F21: 1 | G21: 0
A22: 1.7 | B22: Bảng di trượt - gấp | C22: x | E22: 1 | F22: 1 | G22: 0 | H22: 3900 | I22: =G22*H22 -> 0
A23: 1.8 | B23: Bảng trắng | C23: x | E23: 1 | F23: 1 | G23: 0 | I23: =G23*H23 -> 0
A24: 2 | B24: Phòng học (phòng máy tính) - Đào tạo lý thuyết | I24: =SUM(I25:I33) -> 0 | J24: =SUM(K24:M24) -> 521450 | K24: 417160 | L24: 78217.5 | M24: 26072.5
A25: 2.1 | B25: Bàn máy tính conen hai chỗ ngồi | C25: x | E25: 10 | F25: 10 | G25: 0 | H25: 1000 | I25: =G25*H25 -> 0
A26: 2.2 | B26: Ghế xoay Conen "It’s Magic" | C26: x | E26: 20 | F26: 20 | G26: 0 | H26: 850 | I26: =G26*H26 -> 0
A27: 2.3 | B27: Ghế xoay Conen "It’s Magic" giáo viên | C27: x | E27: 1 | F27: 1 | G27: 0 | H27: 5000 | I27: =G27*H27 -> 0
A28: 2.4 | B28: Bàn giáo viên "Basic" | C28: x | E28: 1 | F28: 1 | G28: 0 | H28: 3250 | I28: =G28*H28 -> 0
A29: 2.5 | B29: Tủ đựng trong phòng học | C29: x | E29: 1 | F29: 1 | G29: 0 | H29: 5850 | I29: =G29*H29 -> 0
A30: 2.6 | B30: Máy chiếu | C30: x | E30: 1 | F30: 1 | G30: 0 | H30: 12350 | I30: =G30*H30 -> 0
A31: 2.7 | B31: Máy tính cá nhân (PC), màn hình, bàn phím, chuột | C31: x | E31: 21 | F31: 21 | G31: 0 | H31: 22100 | I31: =G31*H31 -> 0
A32: 2.8 | B32: Bảng gấp – di trượt | C32: x | E32: 0 | F32: 1 | G32: 0 | H32: 3900 | I32: =G32*H32 -> 0
A33: 2.9 | B33: Bảng trắng | C33: x | E33: 1 | F33: 1 | G33: 0 | I33: =G33*H33 -> 0
A34: 3 | B34: Trang bị dụng cụ sửa chữa của Xưởng sửa chữa - Đào tạo thực hành. | I34: =SUM(I35:I67) -> 748000 | J34: =SUM(K34:M34) -> 4034780 | K34: 3227824 | L34: 605217 | M34: 201739
A35: 3.1 | B35: Bàn làm việc với ê tô và dụng cụ kèm theo | C35: x | E35: 17 | F35: 17 | G35: 0 | H35: 85000 | I35: =G35*H35 -> 0
A36: 3.2 | B36: Thước kẹp loại bỏ túi, 150mm | D36: x | E36: 0 | F36: 17 | G36: 17 | H36: 2000 | I36: =G36*H36 -> 34000
A37: 3.3 | B37: Thước đo 300mm | C37: x | E37: 17 | F37: 17 | G37: 0 | H37: 900 | I37: =G37*H37 -> 0
A38: 3.4 | B38: Thước cuộn, 2met | C38: x | E38: 17 | F38: 17 | G38: 0 | H38: 950 | I38: =G38*H38 -> 0
A39: 3.5 | B39: Ê ke các loại góc | C39: x | E39: 17 | F39: 17 | G39: 0 | H39: 2900 | I39: =G39*H39 -> 0
A40: 3.6 | B40: Ê ke định tâm | C40: x | E40: 17 | F40: 17 | G40: 0 | H40: 8000 | I40: =G40*H40 -> 0
A41: 3.7 | B41: Ê ke thường | C41: x | E41: 17 | F41: 17 | G41: 0 | H41: 2200 | I41: =G41*H41 -> 0
A42: 3.8 | B42: Thước đo độ đa dụng | C42: x | E42: 17 | F42: 17 | G42: 0 | H42: 3000 | I42: =G42*H42 -> 0
...

Sheet Sheet3
