Workbook

Sheet TONG HOP GIA TRI DAU TU
A2: BẢNG TỔNG HỢP GIÁ TRỊ ĐẦU TƯ CƠ SỞ VẬT CHẤT
C3: Nghề : Công nghệ Ô tô
H4: ĐVT: 1.000đ
A5: Năm đầu tư | B5: Sửa chữa phòng học | C5: Đầu tư thiết bị | D5: CỘNG | E5: NGUỒN VỐN
E6: CỘNG | F6: TW (chương trình mục tiêu) | G6: Địa phương (Thành phố) | H6: Nguồn khác (Huy động)
A7: (1) | B7: (2) | C7: (3) | D7: (4)= (2)+(3) | E7: (5)=(6)+(7)+(8) | F7: (6) | G7: (7) | H7: (8)
A8: NĂM 1 | B8: 100000 | C8: 25323846 | D8: =B8+C8 -> 25423846 | E8: =F8+G8+H8 -> 25423846 | F8: ='BIEU BAO CAO'!K14+'BIEU BAO CAO'!K12 -> 20319077 | G8: ='BIEU BAO CAO'!L14+'BIEU BAO CAO'!L12 -> 3828576.9 | H8: ='BIEU BAO CAO'!M14+'BIEU BAO CAO'!M11 -> 1276192.3
A9: NĂM 2 | C9: 48527110 | D9: =B9+C9 -> 48527110 | E9: =F9+G9+H9 -> 48527110 | F9: ='BIEU BAO CAO'!K133 -> 38821688 | G9: ='BIEU BAO CAO'!L133 -> 7279066.5 | H9: ='BIEU BAO CAO'!M133 -> 2426355.5
A10: NĂM 3 | C10: 32506210 | D10: =B10+C10 -> 32506210 | E10: =F10+G10+H10 -> 32506210 | F10: ='BIEU BAO CAO'!K208 -> 26004968 | G10: ='BIEU BAO CAO'!L208 -> 4875931.5 | H10: ='BIEU BAO CAO'!M208 -> 1625310.5
A11: CỘNG | B11: =SUM(B8:B10) -> 100000 | C11: =SUM(C8:C10) -> 106357166 | D11: =SUM(D8:D10) -> 106457166 | E11: =SUM(E8:E10) -> 106457166 | F11: =SUM(F8:F10) -> 85145733 | G11: =SUM(G8:G10) -> 15983575 | H11: =SUM(H8:H10) -> 5327858.3

Sheet BIEU BAO CAO
A1: UBND THÀNH PHỐ HỒ CHÍ MINH | F1: CỘNG HÒA XÃ HỘI CHỦ NGHĨA VIỆT NAM
A2: TRƯỜNG CAO ĐẲNG LÝ TỰ TRỌNG | F2: Độc lập - Tự do - Hạnh phúc
A3: THÀNH PHỐ HỒ CHÍ MINH
A5: Báo cáo hiện trạng và đề xuất hỗ trợ đầu tư về cơ sở vật chất, máy móc trang thiết bị đào tạo nghề Công nghệ Ô tô thực hiện đào tạo thí điểm theo chương trình chuyển giao từ Đức tại Trường Cao đẳng Lý Tự Trọng TP. Hồ Chí Minh
A6: ( Kèm theo Công văn số 2870/TCGDNN-CTMT ngày 12 tháng 11 năm 2018 của Tổng cục Giáo dục nghề nghiệp)
A8: TT | B8: Nội dung đầu tư | C8: Tình trạng | E8: Số lượng hiện có | F8: Số lượng theo yêu cầu | G8: Số lượng cần bổ sung | H8: Đơn giá ( nghìn đồng) | I8: Thành tiền (nghìn đồng) | J8: Nguồn kinh phí (nghìn đồng) | N8: Ghi chú
J9: Tổng cộng | K9: Trong đó
C10: Đáp ứng | D10: Chưa đáp ứng | K10: NSTW (Từ CTMT GDNN- Việc làm và ATLĐ) | L10: Ngân sách Bộ, ngành, địa phương | M10: Huy động nguồn lực khác
A11: A. | B11: Đầu tư phòng học, xưởng thực hành, thực tập | I11: =I12 -> 100000 | J11: =J12 -> 100000 | K11: 60000 | L11: 30000 | M11: 10000
A12: 1 | B12: Cải tạo phòng học (tiêu chuẩn) - Đào tạo lý thuyết | D12: X | E12: 1 | G12: 1 | H12: 100000 | I12: 100000 | J12: =SUM(K12:M12) -> 100000 | K12: 60000 | L12: 30000 | M12: 10000
A13: B. | B13: Đầu tư máy móc trang thiết bị đào tạo | I13: =I14+I133+I208 -> 29899835 | J13: =SUM(K13:M13) -> 106357166 | K13: 85085733 | L13: 15953575 | M13: 5317858.3
A14: I. | B14: Năm thứ nhất | I14: =I15+I24+I34+I68+I100+I126 -> 6823065 | J14: =SUM(K14:M14) -> 25323846 | K14: 20259077 | L14: 3798576.9 | M14: 1266192.3
A15: 1 | B15: Phòng học (tiêu chuẩn) - Đào tạo lý thuyết | I15: =SUM(I16:I23) -> 25000 | J15: =SUM(K15:M15) -> 131050 | K15: 104840 | L15: 19657.5 | M15: 6552.5
A16: 1.1 | B16: Bàn học sinh Basic (2 chỗ ngồi) | C16: x | E16: 15 | F16: 15 | G16: 0 | H16: 2470 | I16: =G16*H16 -> 0
A17: 1.2 | B17: Ghế học sinh Basic | C17: x | E17: 15 | F17: 15 | G17: 0 | H17: 1170 | I17: =G17*H17 -> 0
A18: 1.3 | B18: Bàn giáo viên Basic | C18: x | E18: 1 | F18: 1 | G18: 0 | H18: 5000 | I18: =H18*G18 -> 0
A19: 1.4 | B19: Tủ lớp học sẵn 30 cuốn SGK, cho mỗi cuốn sách giáo khoa theo bộ chương trình (mục 3.1 trong bộ chương trình) là cuốn và Phí bản quyền cho sách chuyên ngành | D19: x | E19: 0 | F19: 1 | G19: 1 | H19: 25000 | I19: =H19*G19 -> 25000
A20: 1.5 | B20: Máy chiếu | C20: x | E20: 1 | F20: 1 | G20: 0 | H20: 25000 | I20: =H20*G20 -> 0
A21: 1.6 | B21: Máy tính để bàn (PC) (màn hình, bàn phím, chuột) | C21: x | E21: 1 | F21: 1 | G21: 0
A22: 1.7 | B22: Bảng di trượt - gấp | C22: x | E22: 1 | F22: 1 | G22: 0 | H22: 3900 | I22: =G22*H22 -> 0
A23: 1.8 | B23: Bảng trắng | C23: x | E23: 1 | F23: 1 | G23: 0 | I23: =G23*H23 -> 0
A24: 2 | B24: Phòng học (phòng máy tính) - Đào tạo lý thuyết | I24: =SUM(I25:I33) -> 0 | J24: =SUM(K24:M24) -> 521450 | K24: 417160 | L24: 78217.5 | M24: 26072.5
A25: 2.1 | B25: Bàn máy tính conen hai chỗ ngồi | C25: x | E25: 10 | F25: 10 | G25: 0 | H25: 1000 | I25: =G25*H25 -> 0
A26: 2.2 | B26: Ghế xoay Conen "It’s Magic" | C26: x | E26: 20 | F26: 20 | G26: 0 | H26: 850 | I26: =G26*H26 -> 0
A27: 2.3 | B27: Ghế xoay Conen "It’s Magic" giáo viên | C27: x | E27: 1 | F27: 1 | G27: 0 | H27: 5000 | I27: =G27*H27 -> 0
A28: 2.4 | B28: Bàn giáo viên "Basic" | C28: x | E28: 1 | F28: 1 | G28: 0 | H28: 3250 | I28: =G28*H28 -> 0
A29: 2.5 | B29: Tủ đựng trong phòng học | C29: x | E29: 1 | F29: 1 | G29: 0 | H29: 5850 | I29: =G29*H29 -> 0
A30: 2.6 | B30: Máy chiếu | C30: x | E30: 1 | F30: 1 | G30: 0 | H30: 12350 | I30: =G30*H30 -> 0
A31: 2.7 | B31: Máy tính cá nhân (PC), màn hình, bàn phím, chuột | C31: x | E31: 21 | F31: 21 | G31: 0 | H31: 22100 | I31: =G31*H31 -> 0
A32: 2.8 | B32: Bảng gấp – di trượt | C32: x | E32: 0 | F32: 1 | G32: 0 | H32: 3900 | I32: =G32*H32 -> 0
A33: 2.9 | B33: Bảng trắng | C33: x | E33: 1 | F33: 1 | G33: 0 | I33: =G33*H33 -> 0
A34: 3 | B34: Trang bị dụng cụ sửa chữa của Xưởng sửa chữa - Đào tạo thực hành. | I34: =SUM(I35:I67) -> 748000 | J34: =SUM(K34:M34) -> 4034780 | K34: 3227824 | L34: 605217 | M34: 201739
A35: 3.1 | B35: Bàn làm việc với ê tô và dụng cụ kèm theo | C35: x | E35: 17 | F35: 17 | G35: 0 | H35: 85000 | I35: =G35*H35 -> 0
A36: 3.2 | B36: Thước kẹp loại bỏ túi, 150mm | D36: x | E36: 0 | F36: 17 | G36: 17 | H36: 2000 | I36: =G36*H36 -> 34000
A37: 3.3 | B37: Thước đo 300mm | C37: x | E37: 17 | F37: 17 | G37: 0 | H37: 900 | I37: =G37*H37 -> 0
A38: 3.4 | B38: Thước cuộn, 2met | C38: x | E38: 17 | F38: 17 | G38: 0 | H38: 950 | I38: =G38*H38 -> 0
A39: 3.5 | B39: Ê ke các loại góc | C39: x | E39: 17 | F39: 17 | G39: 0 | H39: 2900 | I39: =G39*H39 -> 0
A40: 3.6 | B40: Ê ke định tâm | C40: x | E40: 17 | F40: 17 | G40: 0 | H40: 8000 | I40: =G40*H40 -> 0
A41: 3.7 | B41: Ê ke thường | C41: x | E41: 17 | F41: 17 | G41: 0 | H41: 2200 | I41: =G41*H41 -> 0
A42: 3.8 | B42: Thước đo độ đa dụng | C42: x | E42: 17 | F42: 17 | G42: 0 | H42: 3000 | I42: =G42*H42 -> 0
A43: 3.9 | B43: Thước đo độ đứng | D43: x | E43: 0 | F43: 17 | G43: 17 | H43: 2800 | I43: =G43*H43 -> 47600
A44: 3.10 | B44: Compa mũi nhọn | C44: x | E44: 17 | F44: 17 | G44: 0 | H44: 3500 | I44: =G44*H44 -> 0
A45: 3.11 | B45: Mũi đánh dấu HM | D45: x | E45: 0 | F45: 17 | G45: 17 | H45: 2800 | I45: =G45*H45 -> 47600
A46: 3.12 | B46: Ê ke góc 135° | D46: x | E46: 0 | F46: 17 | G46: 17 | H46: 2950 | I46: =G46*H46 -> 50150
A47: 3.13 | B47: Búa đầu nhựa | C47: x | E47: 17 | F47: 17 | G47: 0 | H47: 2910 | I47: =G47*H47 -> 0
A48: 3.14 | B48: Bộ búa thợ nguội | D48: x | E48: 0 | F48: 17 | G48: 17 | H48: 1600 | I48: =G48*H48 -> 27200
A49: 3.15 | B49: Kìm đa năng | C49: x | E49: 17 | F49: 17 | G49: 0 | H49: 500 | I49: =G49*H49 -> 0
A50: 3.16 | B50: Kìm kẹp mũi mỏng | D50: x | E50: 0 | F50: 17 | G50: 17 | H50: 550 | I50: =G50*H50 -> 9350
A51: 3.17 | B51: Kìm mũi tròn | D51: x | E51: 0 | F51: 17 | G51: 17 | H51: 550 | I51: =G51*H51 -> 9350
A52: 3.18 | B52: Kìm vạn năng (kìm bơm nước) | D52: x | E52: 0 | F52: 17 | G52: 17 | H52: 2700 | I52: =G52*H52 -> 45900
A53: 3.19 | B53: Kìm cắt | C53: x | E53: 17 | F53: 17 | G53: 0 | H53: 3600 | I53: =G53*H53 -> 0
A54: 3.20 | B54: Kìm kẹp kéo | D54: x | E54: 0 | F54: 17 | G54: 17 | H54: 3600 | I54: =G54*H54 -> 61200
A55: 3.21 | B55: Kìm cắt hình, tay cầm chuyển đổi được | D55: x | E55: 0 | F55: 17 | G55: 17 | H55: 2700 | I55: =G55*H55 -> 45900
A56: 3.22 | B56: Bộ dũa cơ bản. | C56: x | E56: 17 | F56: 17 | G56: 0 | H56: 8000 | I56: =G56*H56 -> 0
A57: 3.23 | B57: Bộ dũa hình chìa khóa | D57: x | E57: 0 | F57: 17 | G57: 17 | H57: 9500 | I57: =G57*H57 -> 161500
A58: 3.24 | B58: Bộ kẹp để dũa | C58: x | E58: 17 | F58: 17 | G58: 0 | H58: 28000 | I58: =G58*H58 -> 0
A59: 3.25 | B59: Bàn chải sắt | C59: x | E59: 17 | F59: 17 | G59: 0 | H59: 2730 | I59: =G59*H59 -> 0
A60: 3.26 | B60: Bộ thanh nẹp | D60: x | E60: 0 | F60: 17 | G60: 17 | H60: 8000 | I60: =G60*H60 -> 136000
A61: 3.27 | B61: Đục tròn | C61: x | E61: 17 | F61: 17 | G61: 0 | H61: 1200 | I61: =G61*H61 -> 0
A62: 3.28 | B62: Đục đánh dấu 120x10mm | D62: x | E62: 0 | F62: 17 | G62: 17 | H62: 400 | I62: =G62*H62 -> 6800
A63: 3.29 | B63: Cưa sắt 300mm | C63: x | E63: 17 | F63: 17 | G63: 0 | H63: 850 | I63: =G63*H63 -> 0
A64: 3.30 | B64: Đục phẳng 200mm | D64: x | E64: 0 | F64: 17 | G64: 17 | H64: 550 | I64: =G64*H64 -> 9350
A65: 3.31 | B65: Đục nhọn chữ thập 200mm | D65: x | E65: 0 | F65: 17 | G65: 17 | H65: 550 | I65: =G65*H65 -> 9350
A66: 3.32 | B66: Đục cắt | C66: x | E66: 17 | F66: 17 | G66: 0 | H66: 12500 | I66: =G66*H66 -> 0
A67: 3.33 | B67: Kìm cắt, tay cầm chuyển đổi được | D67: x | E67: 0 | F67: 17 | G67: 17 | H67: 2750 | I67: =G67*H67 -> 46750
A68: 4 | B68: Trang bị máy móc của Xưởng sửa chữa - Đào tạo thực hành. | I68: =SUM(I69:I99) -> 944065 | J68: =SUM(K68:M68) -> 2061077 | K68: 1648861.6 | L68: 309161.55 | M68: 103053.85
A69: 4.1 | B69: Máy khoan trục đứng với chỉ số độ sâu lỗ khoan | C69: x | E69: 2 | F69: 2 | G69: 0 | H69: 84600 | I69: =G69*H69 -> 0
A70: 4.2 | B70: Máy khoan để bàn với chỉ số độ sâu lỗ khoan | C70: x | E70: 3 | F70: 3 | G70: 0 | H70: 79500 | I70: =G70*H70 -> 0
A71: 4.3 | B71: Ê tô để bàn. | C71: x | E71: 5 | F71: 5 | G71: 0 | H71: 30600 | I71: =G71*H71 -> 0
A72: 4.4 | B72: Cưa sắt dạng vòng | C72: x | E72: 1 | F72: 1 | G72: 0 | H72: 950 | I72: =G72*H72 -> 0
A73: 4.5 | B73: Máy uốn tôn | D73: x | E73: 0 | F73: 2 | G73: 2 | H73: 79400 | I73: =G73*H73 -> 158800
A74: 4.6 | B74: Kéo cắt tôn và thép hình | C74: x | E74: 2 | F74: 2 | G74: 0 | I74: =G74*H74 -> 0
A75: 4.7 | B75: Máy cắt tôn tấm kèm thước cắt song song | D75: x | E75: 0 | F75: 2 | G75: 2 | H75: 325000 | I75: =G75*H75 -> 650000
A76: 4.8 | B76: Bàn cân chỉnh kèm chân đế | D76: x | E76: 0 | F76: 2 | G76: 2 | H76: 7150 | I76: =G76*H76 -> 14300
A77: 4.9 | B77: Bàn đánh dấu | C77: x | E77: 2 | F77: 2 | G77: 0 | H77: 4550 | I77: =G77*H77 -> 0
A78: 4.10 | B78: Đe, kèm phụ kiện | C78: x | E78: 2 | F78: 2 | G78: 0 | H78: 7540 | I78: =G78*H78 -> 0
A79: 4.11 | B79: Máy mài | C79: x | E79: 2 | F79: 2 | G79: 0 | H79: 85200 | I79: =G79*H79 -> 0
A80: 4.12 | B80: Máy mài góc. | C80: x | E80: 4 | F80: 4 | G80: 0 | H80: 33600 | I80: =G80*H80 -> 0
A81: 4.13 | B81: Máy cưa theo hình. | D81: x | E81: 0 | F81: 2 | G81: 2 | H81: 5850 | I81: =G81*H81 -> 11700
A82: 4.14 | B82: Máy cắt tôn chạy điện | D82: x | E82: 0 | F82: 2 | G82: 2 | H82: 11050 | I82: =G82*H82 -> 22100
A83: 4.15 | B83: Máy cắt dùng khí nén, chạy điện | D83: x | E83: 0 | F83: 2 | G83: 2 | H83: 8840 | I83: =G83*H83 -> 17680
A84: 4.16 | B84: Máy khoan tay | C84: x | E84: 4 | F84: 4 | G84: 0 | H84: 7020 | I84: =G84*H84 -> 0
A85: 4.17 | B85: Máy biến thế hàn | C85: x | E85: 4 | F85: 4 | G85: 0 | H85: 24700 | I85: =G85*H85 -> 0
A86: 4.18 | B86: Bộ ống dây hàn MIG/MAC | C86: x | E86: 4 | F86: 4 | G86: 0 | H86: 4550 | I86: =G86*H86 -> 0
A87: 4.19 | B87: Kẹp nôi tiếp địa | C87: x | E87: 4 | F87: 4 | G87: 0 | H87: 1950 | I87: =G87*H87 -> 0
A88: 4.20 | B88: Kìm kẹp dây hàn | C88: x | E88: 4 | F88: 4 | G88: 0 | H88: 1170 | I88: =G88*H88 -> 0
A89: 4.21 | B89: Dây tiếp địa | C89: x | E89: 4 | F89: 4 | G89: 0 | H89: 390 | I89: =G89*H89 -> 0
A90: 4.22 | B90: Bộ dụng cụ hàn | C90: x | E90: 4 | F90: 4 | G90: 0 | H90: 3250 | I90: =G90*H90 -> 0
A91: 4.23 | B91: Bộ dụng cụ làm nóng dùng propan gas | D91: x | E91: 0 | F91: 4 | G91: 4 | H91: 4550 | I91: =G91*H91 -> 18200
A92: 4.24 | B92: Búa thợ hàn | C92: x | E92: 4 | F92: 4 | G92: 0 | H92: 175.5 | I92: =G92*H92 -> 0
A93: 4.25 | B93: Dụng cụ kiểm tra mạch hàn | D93: x | E93: 0 | F93: 4 | G93: 4 | H93: 6760 | I93: =G93*H93 -> 27040
A94: 4.26 | B94: Kìm đặc biệt | D94: x | E94: 0 | F94: 4 | G94: 4 | H94: 2080 | I94: =G94*H94 -> 8320
A95: 4.27 | B95: Gương hàn | C95: x | E95: 4 | F95: 4 | G95: 0 | H95: 715 | I95: =G95*H95 -> 0
A96: 4.28 | B96: Máy hàn điểm | C96: x | E96: 1 | F96: 1 | G96: 0 | H96: 50700 | I96: =G96*H96 -> 0
A97: 4.29 | B97: Máy mài bằng băng chuyền | D97: x | E97: 0 | F97: 1 | G97: 1 | H97: 7150 | I97: =G97*H97 -> 7150
A98: 4.30 | B98: Máy cưa sắt bằng đai cắt | D98: x | E98: 0 | F98: 1 | G98: 1 | H98: 7540 | I98: =G98*H98 -> 7540
A99: 4.31 | B99: Cưa băng, để cưa thép | D99: x | E99: 0 | F99: 1 | G99: 1 | H99: 1235 | I99: =G99*H99 -> 1235
A100: 5 | B100: Trang bị một Xưởng sửa chữa ô tô - Kỹ thuật điện ô tô và kỹ thuật điện tử ô tô (16 học viên và 1 HLV/ GV) | I100: =SUM(I101:I125) -> 5106000 | J100: =SUM(K100:M100) -> 18463000 | K100: 14770400 | L100: 2769450 | M100: 923150
A101: 5.1 | B101: Dàn nâng ô tô | D101: x | E101: 1 | F101: 2 | G101: 1 | H101: 166000 | I101: =G101*H101 -> 166000
A102: 5.2 | B102: Xe mô hình với hệ thống chiếu sáng thông thường | C102: x | E102: 1 | F102: 1 | G102: 0 | H102: 182000 | I102: =G102*H102 -> 0
...

Sheet Sheet3
